BEGIN:VCALENDAR
VERSION:2.0
CALSCALE:GREGORIAN
PRODID:-//MyApp//Calendar 1.0//EN
BEGIN:VEVENT
METHOD:PUBLISH
UID:65889@regionalniportaly.cz
DTSTAMP:20260425T103834Z
DTSTART;VALUE=DATE:20260627
DTEND;VALUE=DATE:20260628
SUMMARY:Aleš Brichta s kapelou Project
DESCRIPTION:18. velký PIVNÍ festival MALÝCH pivovarů. Začátek ve 13:00 od 20:00 vystoupení Aleše Brichty s kapelou PROJECT.
LOCATION:Oslavany
END:VEVENT
END:VCALENDAR