BEGIN:VCALENDAR
VERSION:2.0
CALSCALE:GREGORIAN
PRODID:-//MyApp//Calendar 1.0//EN
BEGIN:VEVENT
METHOD:PUBLISH
UID:65886@regionalniportaly.cz
DTSTAMP:20260425T103458Z
DTSTART;VALUE=DATE:20260508
DTEND;VALUE=DATE:20260509
SUMMARY:Dolnokounická 25
DESCRIPTION:
LOCATION:Dolní Kounice
END:VEVENT
END:VCALENDAR