BEGIN:VCALENDAR
VERSION:2.0
CALSCALE:GREGORIAN
PRODID:-//MyApp//Calendar 1.0//EN
BEGIN:VEVENT
METHOD:PUBLISH
UID:65881@regionalniportaly.cz
DTSTAMP:20260424T153757Z
DTSTART;VALUE=DATE:20260518
DTEND;VALUE=DATE:20260521
SUMMARY:ZUŠ talentové zkoušky
DESCRIPTION:
LOCATION:Ivančice
END:VEVENT
END:VCALENDAR