BEGIN:VCALENDAR
VERSION:2.0
CALSCALE:GREGORIAN
PRODID:-//MyApp//Calendar 1.0//EN
BEGIN:VEVENT
METHOD:PUBLISH
UID:65879@regionalniportaly.cz
DTSTAMP:20260424T153028Z
DTSTART;VALUE=DATE:20260531
DTEND;VALUE=DATE:20260601
SUMMARY:Pohádkový les
DESCRIPTION:
LOCATION:Ruprechtov
END:VEVENT
END:VCALENDAR