BEGIN:VCALENDAR
VERSION:2.0
CALSCALE:GREGORIAN
PRODID:-//MyApp//Calendar 1.0//EN
BEGIN:VEVENT
METHOD:PUBLISH
UID:65878@regionalniportaly.cz
DTSTAMP:20260424T152721Z
DTSTART;VALUE=DATE:20260430
DTEND;VALUE=DATE:20260501
SUMMARY:Čarostezka
DESCRIPTION:
LOCATION:Vyškov
END:VEVENT
END:VCALENDAR