BEGIN:VCALENDAR
VERSION:2.0
CALSCALE:GREGORIAN
PRODID:-//MyApp//Calendar 1.0//EN
BEGIN:VEVENT
METHOD:PUBLISH
UID:65876@regionalniportaly.cz
DTSTAMP:20260424T153807Z
DTSTART;VALUE=DATE:20260701
DTEND;VALUE=DATE:20260828
SUMMARY:Příměstské tábory léto 2026
DESCRIPTION:
LOCATION:Vyškov
END:VEVENT
END:VCALENDAR