BEGIN:VCALENDAR
VERSION:2.0
CALSCALE:GREGORIAN
PRODID:-//MyApp//Calendar 1.0//EN
BEGIN:VEVENT
METHOD:PUBLISH
UID:65872@regionalniportaly.cz
DTSTAMP:20260424T202215Z
DTSTART;VALUE=DATE:20260530
DTEND;VALUE=DATE:20260531
SUMMARY:LAMENT and WHISPERS
DESCRIPTION:ROSA NOCTURNA - symphonic folk metalSTOKER - gothic rock metalINSINISTRA - symphonic metal...prostě metal trošku jinak
LOCATION:Brno
END:VEVENT
END:VCALENDAR