BEGIN:VCALENDAR
VERSION:2.0
CALSCALE:GREGORIAN
PRODID:-//MyApp//Calendar 1.0//EN
BEGIN:VEVENT
METHOD:PUBLISH
UID:65862@regionalniportaly.cz
DTSTAMP:20260424T095436Z
DTSTART;VALUE=DATE:20260522
DTEND;VALUE=DATE:20260523
SUMMARY:UNIRAVE
DESCRIPTION:Undergroundová studentská rave akce\, kde se hard techno potkává s DnB. 360° stage\, atmosféra ve stylu Boiler Room\, světový sound systém a nejlepší přátelská atmosféra.Underground student rave where hard techno meets DnB. 360° stage\, boiler room experience\, high-end sound system and&nbsp\;the best friendly atmosphere.Lineup&nbsp\;TECHNOFREAKS WARRIORPUMP IT UPDØMHURRYHELL TRAXDOBBIESDRUM AND BASSIMMORTALSEUPHONIUSABSON
LOCATION:Brno
END:VEVENT
END:VCALENDAR