BEGIN:VCALENDAR
VERSION:2.0
CALSCALE:GREGORIAN
PRODID:-//MyApp//Calendar 1.0//EN
BEGIN:VEVENT
METHOD:PUBLISH
UID:65854@regionalniportaly.cz
DTSTAMP:20260424T083124Z
DTSTART;VALUE=DATE:20260519
DTEND;VALUE=DATE:20260520
SUMMARY:Praktická rétorika
DESCRIPTION:Kurz bude probíhat v úterý 5.\, 12. a 19. srpna od 18 hObsah kurzu:•&nbsp\;Tradiční pojetí rétoriky• Technika řeči – respirace\, fonace\, rezonance\, vokalizace\, artikulace• Autentický hlas• Práce s emocemi• Neverbální komunikace• Tvorba a skladba projevu• Praktické rady• Trénink řečnických dovedností
LOCATION:Brno
END:VEVENT
END:VCALENDAR