BEGIN:VCALENDAR
VERSION:2.0
CALSCALE:GREGORIAN
PRODID:-//MyApp//Calendar 1.0//EN
BEGIN:VEVENT
METHOD:PUBLISH
UID:65853@regionalniportaly.cz
DTSTAMP:20260424T150840Z
DTSTART;VALUE=DATE:20260616
DTEND;VALUE=DATE:20260617
SUMMARY:Mandala  a cesta individuace
DESCRIPTION:Mandala je tajemný kompas duše. V jednoduchém kruhu se skrývá síla\, která po tisíce let inspiruje mystiky\, umělce\, vědce i psychology. Carl Gustav Jung kreslil mandaly každý den v období velkého vnitřního zmatku a později napsal\, že právě jejich tvorba odhalila řád uprostřed chaosu a vedla ho k novému smyslu života.Během našeho workshopu prozkoumáme\, proč mandala není jen estetickým symbolem\, ale živým nástrojem duchovního a psychologického rozvoje. Seznámíme se s jejím významem ve východních tradicích i v západní psychologii a dotkneme se procesu individuace – cesty\, na které jedinec kráčí ke své skutečné vnitřní identitě a sjednocuje protichůdné síly v sobě.Součástí je i vytvoření osobní mandaly\, které vám umožní naslouchat hlubším vrstvám psýchy.&nbsp\;Žádné zvláštní výtvarné schopnosti nejsou potřeba – dokáže to každý\, kdo chce. Je to výborný způsob\, jak uvolnit a projevit své emoce a pocity\, pochopit je a vyjádřit tím přirozenějším způsobem - uměním a krásou.
LOCATION:Brno
END:VEVENT
END:VCALENDAR