BEGIN:VCALENDAR
VERSION:2.0
CALSCALE:GREGORIAN
PRODID:-//MyApp//Calendar 1.0//EN
BEGIN:VEVENT
METHOD:PUBLISH
UID:65852@regionalniportaly.cz
DTSTAMP:20260424T051601Z
DTSTART;VALUE=DATE:20260513
DTEND;VALUE=DATE:20260514
SUMMARY:Networking Coffee & Tea s Kačkou Eichi Bilíkovou
DESCRIPTION:Kačka Eichi Bilíková: Cesta zákazníka s tužkou v ruce&nbsp\;Zastavili jste se někdy a podívali se na své podnikání očima člověka\, který vás vidí úplně poprvé? Jak složité je vás najít\, oslovit a nakonec u vás nakoupit?Místa dalšího hosta se ujala&nbsp\;Kačka Eichi Bilíková\, která nás provede cestou zákazníka. Jak jinak než s její oblíbenou&nbsp\;myšlenkovou mapu.&nbsp\;Přijďte si u dobré kávy „uklidit“ ve svém procesu a odejít s jasným plánem\, jak být pro své klienty neodolatelní."Často se soustředíme na to\, co prodáváme\, ale zapomínáme na to\, JAK se to u nás kupuje\,"&nbsp\;říká Kačka. Právě proto na Networking Coffee přináší svůj osvědčený přístup –&nbsp\;práci s myšlenkovou mapou\, praktický vhled\, který můžete okamžitě aplikovat.Kde se potkáme? Hostí nás Petra Majzlíková ve svém studiu Vnímej pohyb. Adresa je známá: budova LAC\, Štefánikova 116\, Rajhrad. Studio najdete hned v přízemí – za vstupem se dejte doprava a po schodech dolů.🦶 Vezměte si s sebou prosím papučky nebo teplé ponožky\, v prostorách se pohybujeme bez bot.Děti vítány: Díky dobrému zázemí jsou na tomto networkingu vítány i děti (věk 0–3 let\, nebo dle domluvy).Na koho se můžete těšit? Kačka Eichi BilíkováPři dobré kávě a bohatém občerstvení: Networking začíná v 9:00\, scházet se budeme už od 8:45. Přijďte na příjemné setkání s inspirativními lidmi\, kteří chtějí svůj život řídit sami.Program:08:45 – 09:00 Příchod a naladění se09:00 – 10:00 Představení všech účastníků (kolečko)10:00 – 11:00 Host Kačka Eichi Bilíková11:00 – 11:30 Volný networking\, který se dle chuti může protáhnoutAť už patříte mezi zkušené networkery\, nebo to bude vaše premiéra\, přijďte navázat nové vztahy\, sdílet reference a doporučení.Vstupenky zakoupíte zde přes smsticketTěší se na vás Kačka Eichi Bilíková a Lucie Bulová
LOCATION:Rajhrad
END:VEVENT
END:VCALENDAR