BEGIN:VCALENDAR
VERSION:2.0
CALSCALE:GREGORIAN
PRODID:-//MyApp//Calendar 1.0//EN
BEGIN:VEVENT
METHOD:PUBLISH
UID:65821@regionalniportaly.cz
DTSTAMP:20260423T151636Z
DTSTART;VALUE=DATE:20260516
DTEND;VALUE=DATE:20260517
SUMMARY:Cesta pohádkovým lesem
DESCRIPTION:Přijďte s námi zažít kouzelný pohádkový den pro celou rodinu!  Vydejte se na dobrodružnou cestu lesem plným pohádek a splňte zábavné úkoly\, které potěší malé i větší děti.Kdo se nevyřádí dostatečně\, může pokračovat Deskohraním v sále ZKC.
LOCATION:Rosice
END:VEVENT
END:VCALENDAR