BEGIN:VCALENDAR
VERSION:2.0
CALSCALE:GREGORIAN
PRODID:-//MyApp//Calendar 1.0//EN
BEGIN:VEVENT
METHOD:PUBLISH
UID:65786@regionalniportaly.cz
DTSTAMP:20260422T071700Z
DTSTART;VALUE=DATE:20260529
DTEND;VALUE=DATE:20260530
SUMMARY:Pět švestek
DESCRIPTION:&nbsp\;Parta přátel\, která se rozhodne vzít život ještě jednou do vlastních rukou a vyplout…„Je to komedie o dvou rebelujících stařenkách a třech stařících\, kteří se vydají na moře bez dozoru dospělých“ řekl režisér filmu Jan Svěrák.
LOCATION:Měnín
END:VEVENT
END:VCALENDAR