BEGIN:VCALENDAR
VERSION:2.0
CALSCALE:GREGORIAN
PRODID:-//MyApp//Calendar 1.0//EN
BEGIN:VEVENT
METHOD:PUBLISH
UID:65784@regionalniportaly.cz
DTSTAMP:20260422T071553Z
DTSTART;VALUE=DATE:20260515
DTEND;VALUE=DATE:20260516
SUMMARY:Zmizení Josefa Mengeleho
DESCRIPTION:Jedinečný a odvážný pohled na jeden z nejnapínavějších skutečných příběhů minulého století. Sledujeme Josefa Mengeleho – nacistického uprchlíka\, jenž je během let těsně následujících po druhé světové válce\, která tráví v Jižní Americe\, konfrontován se svým synem a duchy minulosti.
LOCATION:Měnín
END:VEVENT
END:VCALENDAR