BEGIN:VCALENDAR
VERSION:2.0
CALSCALE:GREGORIAN
PRODID:-//MyApp//Calendar 1.0//EN
BEGIN:VEVENT
METHOD:PUBLISH
UID:65731@regionalniportaly.cz
DTSTAMP:20260423T001913Z
DTSTART;VALUE=DATE:20260515
DTEND;VALUE=DATE:20260516
SUMMARY:Broučci
DESCRIPTION:Baletní pohádka pro děti i dospělé!Oblíbený příběh Jana Karafiáta Broučci ožívá na jevišti v podání Taneční konzervatoře Brno.&nbsp\;Barevné kostýmy\, kouzelná hudba a poetický tanec vtáhnou malé i velké diváky do světa broučků a jejich přátel. Hodinové rodinné představení přinese radost\, napětí i dojetí – ideální zážitek pro školy\, rodiny i prarodiče s vnoučaty.
LOCATION:Brno
END:VEVENT
END:VCALENDAR