BEGIN:VCALENDAR
VERSION:2.0
CALSCALE:GREGORIAN
PRODID:-//MyApp//Calendar 1.0//EN
BEGIN:VEVENT
METHOD:PUBLISH
UID:65718@regionalniportaly.cz
DTSTAMP:20260421T104659Z
DTSTART;VALUE=DATE:20260430
DTEND;VALUE=DATE:20260501
SUMMARY:Pálení čarodějnic v Šaraticích
DESCRIPTION:KULTURA ŠARATICE\, TJ ŠARATICE a SDH ŠARATICE Vás srdečně zvou na tradiční PÁLENÍ ČARODĚJNIC.Slet čarodějek a čarodějů se koná ve čtvrtek 30. 4. 2026 v 17.00 hod. před OÚ Šaratice.Proběhne kurz létání obcí a poté svá košťata zaparkujeme na fotbalovém hřišti.\nPro děti budou připraveny soutěže.V 19.00 hod. bude zapálen velký oheň s čarodějnicí.Táborák a občerstvení zajištěno.Večerní posezení u ohně s reprodukovanou hudbou.Těšíme se na Vaši účast.
LOCATION:Šaratice
END:VEVENT
END:VCALENDAR