BEGIN:VCALENDAR
VERSION:2.0
CALSCALE:GREGORIAN
PRODID:-//MyApp//Calendar 1.0//EN
BEGIN:VEVENT
METHOD:PUBLISH
UID:65717@regionalniportaly.cz
DTSTAMP:20260421T114303Z
DTSTART;VALUE=DATE:20260521
DTEND;VALUE=DATE:20260522
SUMMARY:Ministerstvo Obřany
DESCRIPTION:Ministerstvo Obřany se pohybuje na pomezí rapu\, noisu a industriálního storytellingu. Slide kytara\, temné dronové plochy analogových syntezátorů a elektronické beaty vytvářejí podhoubí pro vokál oscilující mezi rapem a mluveným slovem.Alternativní rap z Brna\, za kterým stojí básník Ondřej Hrabal\, kytarista Zdeněk Butula a producent Jan Kuchár. Spojením svých sil i slabin se pokoušejí vrátit zašlou slávu brněnské čtvrti Obřany.Zvuk kapely výrazně formuje právě slide kytara a hutné dronové vrstvy\, zatímco elektronické beaty doprovází vokál balancující mezi recitací a rapem.Debutové album Pluto (2025) vypráví příběh o nesmyslných ambicích a absurdní touze kolonizovat cokoliv a kohokoliv.
LOCATION:Brno
END:VEVENT
END:VCALENDAR