BEGIN:VCALENDAR
VERSION:2.0
CALSCALE:GREGORIAN
PRODID:-//MyApp//Calendar 1.0//EN
BEGIN:VEVENT
METHOD:PUBLISH
UID:65701@regionalniportaly.cz
DTSTAMP:20260421T114313Z
DTSTART;VALUE=DATE:20260522
DTEND;VALUE=DATE:20260523
SUMMARY:Slade (UK)
DESCRIPTION:Glamrockoví Slade míří do Brna.Britská rocková kapela Slade se vrací do Česka. Po vyprodaných koncertech v Praze a Mikulově v roce 2024 přivezou svou nespoutanou show do brněnského Sonocentra – 22. května 2026. Návštěvníci se mohou připravit na večer plný energie\, chytlavých refrénů a nestárnoucího glamrocku.Kapela\, která dobyla světové hitparády hity jako&nbsp\;Cum on Feel the Noize&nbsp\;nebo&nbsp\;Coz I Luv You\, má na kontě 23 singlů v britské Top 20\, z toho šest na prvním místě.Slade si svou cestu na výsluní vyšlapali už v 60. letech – tehdy ještě jako N’Betweens. Dnes je vede zakládající člen a kytarista Dave Hill\, který na pódiu stále září svou nakažlivou energií. Spolu s ním se představí Alex Bines (bicí)\, John Berry (basa\, zpěv\, housle) a Russel Keefe (klávesy\, zpěv).Jako support vystoupí jedna z nejuznávanějších českých kapel – skupina Precedens z Prahy. Kapela vystupuje na české scéně od 80. let a natočila několik alb s Bárou Basikovou. Nedávno vydal Precedens album&nbsp\;Odstíny černé. Precedens vystoupí ve složení: Martin Němec\, Daniela Langrová\, Karel Vošta\, Pavel Nedoma\, Zdeněk Imramovský a Tomáš Kašpar. Daniela Langrová je známá mimo jiné z projektu&nbsp\;Rock Opera Praha.
LOCATION:Brno
END:VEVENT
END:VCALENDAR