BEGIN:VCALENDAR
VERSION:2.0
CALSCALE:GREGORIAN
PRODID:-//MyApp//Calendar 1.0//EN
BEGIN:VEVENT
METHOD:PUBLISH
UID:65698@regionalniportaly.cz
DTSTAMP:20260421T124627Z
DTSTART;VALUE=DATE:20260620
DTEND;VALUE=DATE:20260621
SUMMARY:SYNKOPY 61 + Ozzy Osbourne revival
DESCRIPTION:V hlavní roli Vilda Majtner a legendární Synkopy 61
LOCATION:Brno
END:VEVENT
END:VCALENDAR