BEGIN:VCALENDAR
VERSION:2.0
CALSCALE:GREGORIAN
PRODID:-//MyApp//Calendar 1.0//EN
BEGIN:VEVENT
METHOD:PUBLISH
UID:65689@regionalniportaly.cz
DTSTAMP:20260421T152023Z
DTSTART;VALUE=DATE:20260520
DTEND;VALUE=DATE:20260521
SUMMARY:She Connects: Walk & Talk (From Small Talk to Real Talk)
DESCRIPTION:Join us for an after-work networking experience designed to go beyond the usual small talk.This won’t be just a casual walk. After a full day of sitting at work\, we’ll get moving and combine light activity with guided networking designed to create meaningful 1:1 connections.Through curated pair conversations\, structured prompts\, and simple interactive activities\, you’ll be encouraged to open up real topics - from what you’re currently working on to challenges you’re navigating and opportunities you’re looking for.Expect a relaxed but intentional format where you’ll:meet like-minded women from the communityhave deeper\, more honest conversationsleave with new connections that actually matterThe meeting point will be at Rullerovo nábřeží (the new riverfront area). We’ll share the exact location details in the calendar invitation closer to the date.Date: May 20Time: 17:30–19:00.In case of unfavorable weather\, we’ll arrange an indoor networking alternative at a cozy café so the experience can continue comfortably.Come for a walk\, stay for the conversations that go beyond the surface.Registration fee applies (to secure your spot).We can’t wait to meet you!Femme Palette Team&nbsp\;
LOCATION:Brno
END:VEVENT
END:VCALENDAR