BEGIN:VCALENDAR
VERSION:2.0
CALSCALE:GREGORIAN
PRODID:-//MyApp//Calendar 1.0//EN
BEGIN:VEVENT
METHOD:PUBLISH
UID:65674@regionalniportaly.cz
DTSTAMP:20260420T190801Z
DTSTART;VALUE=DATE:20260505
DTEND;VALUE=DATE:20260506
SUMMARY:Jarní galakoncert | Spolek přátel hudby
DESCRIPTION:Ve velkém sále kulturního domu Kuřim ve středu 6. 5. 2026 vystoupí Jitka soubor Musica dolce vita. Soubor MUSICA DOLCE VITA působí na české hudební scéně od roku 2005 a má na svém kontě stovky koncertů ve všech koutech naší vlasti\, ale také v Německu\, Polsku a Litvě. U zrodu tohoto tělesa stály dvě současné členky tria harfenistka Zbyňka Šolcová a mezzosopranistka Daniela Demuthová. Zakládajícím členem souboru byl také flétnista České filharmonie Jan Machat\, jehož v roce 2007 nahradila špičková sólová flétnistka Žofie Vokálková\, která přinesla do hry tria ženskou lehkost a brilantnost a též řadu nových podnětů a původních originálních skladeb. Vstupné 170 Kč/os.\, vstupenky zakoupíte na www.kulturakurim.cz nebo na pokladně kulturního domu.
LOCATION:Kuřim
END:VEVENT
END:VCALENDAR