BEGIN:VCALENDAR
VERSION:2.0
CALSCALE:GREGORIAN
PRODID:-//MyApp//Calendar 1.0//EN
BEGIN:VEVENT
METHOD:PUBLISH
UID:65671@regionalniportaly.cz
DTSTAMP:20260420T132227Z
DTSTART;VALUE=DATE:20260425
DTEND;VALUE=DATE:20260426
SUMMARY:Dětská tvořivá dílna - čarodějnická
DESCRIPTION:Čarodějnice a kouzla všude kam se podíváš :-)
LOCATION:Rosice
END:VEVENT
END:VCALENDAR