BEGIN:VCALENDAR
VERSION:2.0
CALSCALE:GREGORIAN
PRODID:-//MyApp//Calendar 1.0//EN
BEGIN:VEVENT
METHOD:PUBLISH
UID:65624@regionalniportaly.cz
DTSTAMP:20260420T082648Z
DTSTART;VALUE=DATE:20261011
DTEND;VALUE=DATE:20270411
SUMMARY:Koncertní cyklus Muzikobraní Moravského klavírního tria
DESCRIPTION:Žijte kulturou!Koncerty z cyklu MUZIKOBRANÍKaždý koncert je spojen s přípitkem pro návštěvníkywww.muzikobrani.czwww.moravskeklavirnitrio.cz&nbsp\;Neděle 11. října 2026 — 17:00\, KD Rubín ŽabovřeskyGala Wien(J. Haydn\, Z. Král\, L. v. Beethoven)&nbsp\;Neděle 22. listopadu 2026 — 17:00\, KD Rubín ŽabovřeskyHity filmového plátna(Koncert doprovázený videoprojekcí)&nbsp\;Neděle 6. prosince 2026 — 17:00\, KD Rubín ŽabovřeskyRybova mše Vánoční a Vánoce Karla Svobody (Koncert v&nbsp\;záři stovek svíček)&nbsp\;Pátek 1. ledna 2027 — 17:00\, Besední dům BrnoNovoroční koncert a Andrea Kalivodová (Od opery k&nbsp\;muzikálu)&nbsp\;Neděle 14. března 2027 — 17:00\, KD Rubín ŽabovřeskyŠtěpán Rak 80 – host Moravského klavírního tria &nbsp\;(Gratulační recitál kytarového mága)&nbsp\;Neděle 11. dubna 2027 — 17:00\, KD Rubín ŽabovřeskySkvosty klasiků (W. A. Mozart\, D. Šostakovič\, A. Dvořák)&nbsp\;Více informací www.muzikobrani.czKoncertní cyklus Muzikobraní přináší Moravské klavírní trio\, které vás provede sérií 6-ti výjimečných večerů plných emocí i virtuozity.Program nabízí pestrou klasickou hudbu – známé skladby i méně hrané klenoty v podání skvělých interpretů Jany Ryšánkové - klavír\, Jiřího Jahody - housle a Miroslava Zichy - violoncello. Součástí je také večer filmové hudby s videoprojekcí\, Rybova mše vánoční v záři stovek svíček a hostování kytarového mága&nbsp\;Štěpána Raka.Po každém koncertě vás čeká číše vína a setkání s umělci. Vyvrcholením je slavnostní novoroční koncert v Besední dům s českou Carmen&nbsp\;Andreou&nbsp\;Kalivodovou&nbsp\;a novoročním přípitkem.&nbsp\;
LOCATION:Brno
END:VEVENT
END:VCALENDAR