BEGIN:VCALENDAR
VERSION:2.0
CALSCALE:GREGORIAN
PRODID:-//MyApp//Calendar 1.0//EN
BEGIN:VEVENT
METHOD:PUBLISH
UID:65576@regionalniportaly.cz
DTSTAMP:20260420T121405Z
DTSTART;VALUE=DATE:20260507
DTEND;VALUE=DATE:20260508
SUMMARY:101 dní v Bangkoku
DESCRIPTION:Taky jste někdy chtěli jen tak sbalit všechno do batohu a odletět na druhý konec světa s plánem začít úplně od nuly?Přednáška 101 dní v Bangkoku je osobní příběh o hledání sebe sama ve městě\, které vás testuje každým dnem. O dnech\, kdy vás pálí plíce už při cestě na snídani\, protože kvalita ovzduší patří k těm nejhorším na světě. O chvíli\, kdy se městem prožene zemětřesení a vy sedíte na chodníku před domem\, který jste si zrovna na půl roku pronajali\, zatímco se vedle něj houpe naprasklý mrakodrap\, ale taky o tom\, jak se v tomhle neonovými-barvami-vibrujícím chaosu naučit fungovat\, nezbláznit se\, a hlavně se do toho města naplno zamilovat a naučit se v něm užít každý den.Tímhle vás zvu na svou syrovou zpověď o digitálním nomádství bez filtru a budu moc rád\, když si ji přijdete poslechnout.&nbsp\;https://www.instagram.com/p/DVguIZtDb6B/
LOCATION:Brno
END:VEVENT
END:VCALENDAR