BEGIN:VCALENDAR
VERSION:2.0
CALSCALE:GREGORIAN
PRODID:-//MyApp//Calendar 1.0//EN
BEGIN:VEVENT
METHOD:PUBLISH
UID:65485@regionalniportaly.cz
DTSTAMP:20260421T020956Z
DTSTART;VALUE=DATE:20260523
DTEND;VALUE=DATE:20260524
SUMMARY:Kuřimská muzejní noc 2026
DESCRIPTION:Knihovna čar a kouzel\n18:30 Kouzelnické vystoupení pro malé i velké – Kouzelník Michal Ondřej – dětské odd.19:15 – 20:15 Mikromagie napříč knihovnou – Kouzelník Michal Ondřej20:30 Kouzelnické vystoupení pro malé i velké – Kouzelník Michal Ondřej – dětské odd.18:00 – 22:00Kouzelná laboratoř Báry Dvořáčkové – interaktivní místnostVýroba a ochutnávka lektvarů Andreji Hruškové – dospělé odd.Výroba kouzelnických hůlek – dospělé odd.Strašidelná ulička – dospělé odd.Charitativní Dobrokavárna La Kočka pro Opuštěné kočičí tlapky – terasa knihovnyVýstava Anety Hruškové\, Čáry a kouzla v obrazech – schodiště knihovny \nKuřimská štola\n18:00 – 22:00Kuřimská štola bude otevřena pro veřejnostsplňte úkoly na všech stanovištích a najděte poklad mocné čarodějnice Agáty \nKulturní dům\nVelký sál kulturního domu\n18:00 – 22:00 virtuální realita s 3D brýlemi a promítání historických fotografií KuřimiKouzelné Kino City Kuřim\n17:00 Čarodějné pohádky (pásmo animovaných pohádek\, vypráví Bára Hrzánová)20:00 Bratři Lumièrové – Dobrodružství pokračuje
LOCATION:Kuřim
END:VEVENT
END:VCALENDAR