BEGIN:VCALENDAR
VERSION:2.0
CALSCALE:GREGORIAN
PRODID:-//MyApp//Calendar 1.0//EN
BEGIN:VEVENT
METHOD:PUBLISH
UID:65429@regionalniportaly.cz
DTSTAMP:20260421T142741Z
DTSTART;VALUE=DATE:20260513
DTEND;VALUE=DATE:20260514
SUMMARY:Škola doma
DESCRIPTION:Setkání domškoláků\, jejich rodičů a průvodců\, výměna  zkušeností.
LOCATION:Vyškov
END:VEVENT
END:VCALENDAR