BEGIN:VCALENDAR
VERSION:2.0
CALSCALE:GREGORIAN
PRODID:-//MyApp//Calendar 1.0//EN
BEGIN:VEVENT
METHOD:PUBLISH
UID:52299@regionalniportaly.cz
DTSTAMP:20260421T104953Z
DTSTART;VALUE=DATE:20250426
DTEND;VALUE=DATE:20250427
SUMMARY:Family Food Festival v Brně-Řečkovicích
DESCRIPTION:Amfiteátr starého pivovaru v Řečkovicích se i letos promění v centrum skvělého jídla\, osvěžujících drinků a rodinné zábavy.\nTěšit se můžete na špičkový street food\, speciality z celého světa\, výběrovou kávu\, moravská vína i míchané koktejly. Pro děti budou připraveny skákací hrady a malování na obličej.\nKde? Amfiteátr starého pivovaru\, Brno-Řečkovice.Kdy? Sobota 26. dubna\, od 10:00 do 20:00 hod.\nPřijďte ochutnat\, pobavit se a užít si skvělou atmosféru! Vstup je zdarma. Pro více informací sledujte Facebook akce.
LOCATION:Brno
END:VEVENT
END:VCALENDAR