BEGIN:VCALENDAR
VERSION:2.0
CALSCALE:GREGORIAN
PRODID:-//MyApp//Calendar 1.0//EN
BEGIN:VEVENT
METHOD:PUBLISH
UID:51823@regionalniportaly.cz
DTSTAMP:20260423T143920Z
DTSTART;VALUE=DATE:20250707
DTEND;VALUE=DATE:20250713
SUMMARY:Festival planet Brno
DESCRIPTION:Objevte krásu a tajemství vesmíru na Festivalu Planet 2025\, který se uskuteční na Kraví hoře v Brně. Festival nabídne jedinečnou venkovní expozici modelů planet v nadživotní velikosti\, díky nimž si budete moci představit\, jak obrovská tělesa naší Sluneční soustavy ve skutečnosti jsou.\nSoučástí programu budou také večerní projekce sci-fi filmů pod širým nebem a speciální pořady v digitáriu Hvězdárny a planetária Brno. Návštěvníci se mohou těšit na komentované prohlídky\, přednášky odborníků o vesmíru a astronomii\, stejně jako na doprovodné aktivity pro děti i dospělé.\nBudou pro Vás připraveny stánky s občerstvením a párty stany od našeho partnera eshopu I-MARKET.CZ (https://i-market.cz/113-zahradni-party-stany)\nDatum konání: 7.–13. července a 4.–10. srpna 2025Místo: Kraví hora\, Brno\nPřijďte se podívat\, jak by Sluneční soustava vypadala\, kdybychom ji mohli pozorovat v jiném měřítku. Festival je zdarma a vhodný pro všechny věkové kategorie.
LOCATION:Brno
END:VEVENT
END:VCALENDAR