BEGIN:VCALENDAR
VERSION:2.0
CALSCALE:GREGORIAN
PRODID:-//MyApp//Calendar 1.0//EN
BEGIN:VEVENT
METHOD:PUBLISH
UID:33509@regionalniportaly.cz
DTSTAMP:20260421T163710Z
DTSTART;VALUE=DATE:20230611
DTEND;VALUE=DATE:20230612
SUMMARY:Kráska a zvíře
DESCRIPTION:Kráska a zvíře\nUkrutná bouře\, nečas a zoufalství\, zahnalo muže ve středním věku do nejbližšího úkrytu. Avšak to netušil\, že se ocitl v zakletém království\, kterému vládne obrovský netvor. Muži byla projevena pohostinnost a poskytnuto útočiště. Když ale zámek opouštěl\, utrhl posvátnou růži\, jako dárek pro svoji krásnou dceru. A to neměl dělat.\nPřijďte se podívat\, jak příběh skončí.\nZveme Vás na kostýmovanou prohlídku zámku a hranou pohádku pro děti\nKráska a zvíře\, 11. 6. 2023\, v 13:30\, 14:30 a 15:30 hodin.\nNutnost předchozí rezervace na tel. 544 227 548 nebo zakoupení on-line na www.zamek-slavkov.cz v sekci Předprodej.
LOCATION:Slavkov u Brna
END:VEVENT
END:VCALENDAR