BEGIN:VCALENDAR
VERSION:2.0
CALSCALE:GREGORIAN
PRODID:-//MyApp//Calendar 1.0//EN
BEGIN:VEVENT
METHOD:PUBLISH
UID:33485@regionalniportaly.cz
DTSTAMP:20260421T162317Z
DTSTART;VALUE=DATE:20230623
DTEND;VALUE=DATE:20230625
SUMMARY:Festival KEFASFEST
DESCRIPTION:Kefasfest je open air festival odehrávající se v areálu bývalého kláštera Rosa coeli v Dolních Kounicích již od roku 2012. Tento nádherný areál vdechuje akci neopakovatelnou atmosféru\, kterou nelze zažít nikde jinde. Jedná se o křesťanský festival pro mládež s bohatým programem plným hudby\, sportovních aktivit a kreativních workshopů. Program doplňují výstavy\, filmy\, divadlo a přednášky na aktuální témata. Cílem akce je zprostředkovat křesťanskou kulturu široké veřejnosti\, ať už skrze různé hudební žánry\, fotky nebo divadlo. Vítáni jsou všichni\, kteří mají rádi dobrou společnost a pozitivní atmosféru. Kefasfest je „alkohol free“. Mladým lidem chceme ukázat\, že bavit se lze i bez alkoholu a drog. Na organizaci festivalu se každoročně spolupodílí team dobrovolníků z řad mládeže\, kteří se zapojují do moderování\, propagace\, tvorby grafiky\, pomáhají pořadatelům\, stravovatelům nebo stagemanagerovi. Aktivně tak spoluvytváří výslednou podobu festivalu.
LOCATION:Dolní Kounice
END:VEVENT
END:VCALENDAR