BEGIN:VCALENDAR
VERSION:2.0
CALSCALE:GREGORIAN
PRODID:-//MyApp//Calendar 1.0//EN
BEGIN:VEVENT
METHOD:PUBLISH
UID:32574@regionalniportaly.cz
DTSTAMP:20260421T175020Z
DTSTART;VALUE=DATE:20230425
DTEND;VALUE=DATE:20230426
SUMMARY:Volejbal Extraliga Ženy - FINÁLE: KP Brno - VK Šelmy Brno
DESCRIPTION:32. kolo UNIQA Extraligy žen ve volejbale.
LOCATION:Brno
END:VEVENT
END:VCALENDAR