BEGIN:VCALENDAR
VERSION:2.0
CALSCALE:GREGORIAN
PRODID:-//MyApp//Calendar 1.0//EN
BEGIN:VEVENT
METHOD:PUBLISH
UID:32572@regionalniportaly.cz
DTSTAMP:20260421T191301Z
DTSTART;VALUE=DATE:20230428
DTEND;VALUE=DATE:20230429
SUMMARY:1. Cabaretní tančírna
DESCRIPTION:Přijďte si užít večer s našimi umělci! Naučíte se s nimi jednoduché taneční kroky a můžete se protančit přímo na naše cabaretní prkna slávy.Pokud však nejste taneční typ\, nevadí! Večerem vás budou provázet krásná vystoupení\, živý zpěv a spousta skvělé zábavy.Těšíme se na VásTým CabaretuOtevření baru: 18:00&nbsp\;
LOCATION:Brno
END:VEVENT
END:VCALENDAR