BEGIN:VCALENDAR
VERSION:2.0
CALSCALE:GREGORIAN
PRODID:-//MyApp//Calendar 1.0//EN
BEGIN:VEVENT
METHOD:PUBLISH
UID:32426@regionalniportaly.cz
DTSTAMP:20260422T111525Z
DTSTART;VALUE=DATE:20230419
DTEND;VALUE=DATE:20230420
SUMMARY:Banger
DESCRIPTION:Česko\, 2022\, 105 min
LOCATION:Brno
END:VEVENT
END:VCALENDAR