BEGIN:VCALENDAR
VERSION:2.0
CALSCALE:GREGORIAN
PRODID:-//MyApp//Calendar 1.0//EN
BEGIN:VEVENT
METHOD:PUBLISH
UID:32401@regionalniportaly.cz
DTSTAMP:20260421T140400Z
DTSTART;VALUE=DATE:20230505
DTEND;VALUE=DATE:20230506
SUMMARY:Beseda s Markem & Dominikou a hostem Ivem Novosadem
DESCRIPTION:Živé besedování v Rousínově s Markem Jelínkem a Dominikou Trojanovou a jejich hostem vědcem a geologem Ivem Novosadem na téma Svět Naruby.&nbsp\;Po mnoha letech bádání dospěl Ivo ke stejnému závěru jako Marek a Dominika\, že svět je jiný než nás učí média nebo ve školách.Co tu dělám\, proč tu jsem\, o co tu vlastně jde… a proč možná nejsou věci takové\, jak je nám systémem předkládáno od našeho příchodu na tuto Zemi?Co je to vlastně přirozený způsob života? Jak prožít život v rovnováze\, výživě\, vztahu a kontaktu k naší Zemi. Jaké je bytí v jednoduchosti a soběstačnost a mnohé další.Marek procestoval svět na koloběžce a vydal z cest krásnou knihu s názvem: Dobroběžník mezi světy. Projel na koloběžce Jižní Ameriku\, Asii a s přítelkyní Dominikou společně uskutečnili poslední výpravu napříč Afrikou.Poslední 3 roky Dominika a Marek natáčí rozhovory se zajímavými hosty ve své maringotce v beskydských kopcích s názvem "Hovory ze země"\, které publikují na svém YouTube kanále.&nbsp\;KDY: 5. května 2023\, 17:30 – 19:30 (může se protáhnout\, dle otázek)KDE: Sál Záložna\, Sušilovo náměstí 2\, Rousínov u BrnaCENA: 379 Kč v předprodeji\, 450 Kč na místěSledování ze záznamu je možné za 379 KčPřednáška je určena pro dospělé.Kontakt: prednaskyslavkov@gmail.com&nbsp\;V případě storna ze strany pořadatele bude cena vstupenky vrácena nebo bude přednáška přesunuta na jiný datum. Platba za vstupenku je nevratná\, lze ji ale převést na jinou osobu.
LOCATION:Rousínov
END:VEVENT
END:VCALENDAR