BEGIN:VCALENDAR
VERSION:2.0
CALSCALE:GREGORIAN
PRODID:-//MyApp//Calendar 1.0//EN
BEGIN:VEVENT
METHOD:PUBLISH
UID:32383@regionalniportaly.cz
DTSTAMP:20260421T191200Z
DTSTART;VALUE=DATE:20230419
DTEND;VALUE=DATE:20230420
SUMMARY:Český filharmonický sbor Brno
DESCRIPTION:Český filharmonický sbor BrnoKoncert k 80. narozeninám sbormistra a skladatele Petra FialyAntonín Dvořák: Moravské dvojzpěvy\,&nbsp\;Květiny bílé po cestěBedřich Smetana: Prodaná nevěsta (výběr sborů)Leoš Janáček: Ukvalské písně\, Rákos Rákoczylidové písně v úpravách českých skladatelůsólisté Českého filharmonického sboru BrnoMiriam Zuziaková&nbsp\;klavírČeský filharmonický sbor Brno&nbsp\;(komorní sbor)sbormistr&nbsp\;Petr Fiala
LOCATION:Brno
END:VEVENT
END:VCALENDAR