BEGIN:VCALENDAR
VERSION:2.0
CALSCALE:GREGORIAN
PRODID:-//MyApp//Calendar 1.0//EN
BEGIN:VEVENT
METHOD:PUBLISH
UID:32372@regionalniportaly.cz
DTSTAMP:20260421T184413Z
DTSTART;VALUE=DATE:20230422
DTEND;VALUE=DATE:20230423
SUMMARY:Jazz Ladies & Co
DESCRIPTION:Jazzový večer\, alias večer\, kterým vás bude doprovázet živá hudba v duchu méně i více populárních jazzových skladeb v podání kabaretních zpěvaček\, spolu s piánem v prostorách Cabaretu des Péchés.
LOCATION:Brno
END:VEVENT
END:VCALENDAR