BEGIN:VCALENDAR
VERSION:2.0
CALSCALE:GREGORIAN
PRODID:-//MyApp//Calendar 1.0//EN
BEGIN:VEVENT
METHOD:PUBLISH
UID:32349@regionalniportaly.cz
DTSTAMP:20260421T193329Z
DTSTART;VALUE=DATE:20230420
DTEND;VALUE=DATE:20230421
SUMMARY:Doom/stoner night - Cities of Mars-Small town murder-Zlo/My
DESCRIPTION:Doom metaloví návštěvníci z Marsu "Cities of Mars" v sobě nazapřou vliv kapel jako Crowbar\, Tool\, The Obsessed\, Sleep\, Shrinebuilder\, Mastodon\, The Sword. Hudebně excelentní riffy a vokály všech členů Vás vezmou do příběhu\, který se začal hrát v roce 2014.&nbsp\;Support:Small town murder - stoner rock Brno/San FranciscoZlo/My alternative rock Brno
LOCATION:Brno
END:VEVENT
END:VCALENDAR