BEGIN:VCALENDAR
VERSION:2.0
CALSCALE:GREGORIAN
PRODID:-//MyApp//Calendar 1.0//EN
BEGIN:VEVENT
METHOD:PUBLISH
UID:32345@regionalniportaly.cz
DTSTAMP:20260421T191110Z
DTSTART;VALUE=DATE:20230427
DTEND;VALUE=DATE:20230428
SUMMARY:Vztahy na úrovni
DESCRIPTION:Svižná moderní komedie divadelní společnosti Háta ze zákulisí vysoké politiky\, která nevynechává ani milostný život mužů sedících na vlivných křeslech v Evropské obchodní komisi. Podle všeho by tyto vztahy měly být na vysoké úrovni\, jenže jsou stejně zamotané\, strastiplné a legrační jako u jiných lidí. Hra plná záměn\, nečekaných situací a gagů plní spolehlivě divadla po celém světě především tím\, že divák konečně vidí ty sebejisté muže před někým koktat a klečet…Hrají: Lukáš Vaculík\, Ivana Andrlová/ Vlasta Žehrová/ Olga Želenská\, Viktor Limr\, Martin Zounar/Martin Sobotka\, Mahulena Bočanová/Adéla Gondíková\, Kateřina Hrachovcová\, Pavel Nečas/Zbyšek Pantůček.
LOCATION:Brno
END:VEVENT
END:VCALENDAR