BEGIN:VCALENDAR
VERSION:2.0
CALSCALE:GREGORIAN
PRODID:-//MyApp//Calendar 1.0//EN
BEGIN:VEVENT
METHOD:PUBLISH
UID:32315@regionalniportaly.cz
DTSTAMP:20260421T175011Z
DTSTART;VALUE=DATE:20230422
DTEND;VALUE=DATE:20230423
SUMMARY:Friction [UK]
DESCRIPTION:Pokračujeme v drum&amp\;bassové náloži! Do ENTER Club Brno dorazí britská legenda Friction!Tento neúnavný propagátor d&amp\;b je na scéně už 25 let. Z kluka z Brightonu se rychle vypracoval v uznávané DJské i producentské jméno a dnes je naprostou ostrovní ikonou. Krom produkce\, pořádání akcí a hraní po klubech šířil d&amp\;b i třeba jako moderátor legendárního rádia BBC. Navíc jeho jedinečnost spočívá i v tom\, že je schopný ve svých setech hrát najednou ze tří i čtyř playerů.Čeká nás tak pořádná jízda s opravdovým králem drumíkového mixu!
LOCATION:Brno
END:VEVENT
END:VCALENDAR