BEGIN:VCALENDAR
VERSION:2.0
CALSCALE:GREGORIAN
PRODID:-//MyApp//Calendar 1.0//EN
BEGIN:VEVENT
METHOD:PUBLISH
UID:32272@regionalniportaly.cz
DTSTAMP:20260421T184828Z
DTSTART;VALUE=DATE:20230420
DTEND;VALUE=DATE:20230421
SUMMARY:Hmlisto & Petr Linhart
DESCRIPTION:Hmlisto tvoří písničkářka Veronika Kicková a její syn Ján. Žijí v horách na středním Slovensku\, což se ozývá i&nbsp\;v&nbsp\;jejich soundu\, těžícího z nevšedního zpracování karpatského folkloru i ze světové kytarové hudby.&nbsp\;Petr Linhart je mužem písní pohraničních krajin\, tomuto tématu věnoval několik úspěšných alb.&nbsp\;Společné písně z alba Československá jsou zpívané dvěma jazyky\, vyprávěné dvěma pohledy. Netradiční pojetí přináší výpovědi o krajině\, vzpomínky na příběhy v ní ukrytéa odlesky naší společné minulosti.&nbsp\;Album Československá bylo nominováno na cenu Radio Head Awards slovenského Rádia FM.
LOCATION:Brno
END:VEVENT
END:VCALENDAR