BEGIN:VCALENDAR
VERSION:2.0
CALSCALE:GREGORIAN
PRODID:-//MyApp//Calendar 1.0//EN
BEGIN:VEVENT
METHOD:PUBLISH
UID:32271@regionalniportaly.cz
DTSTAMP:20260421T201459Z
DTSTART;VALUE=DATE:20230426
DTEND;VALUE=DATE:20230427
SUMMARY:Dura & Blues Groove
DESCRIPTION:Pekárenská bluesová veselice - to je Duro s kapelou stálých i nahodilých muzikantů. Staňte se součástí liverecording. Juraj Dura Turtev\, Lukáš Kytnar\, Jan Kyncl\, Mojmír Bob Sabolovič\, Jan Švihálek\, Eva Trnková\, Pavel Všianský\, Jakub Štěpaník
LOCATION:Brno
END:VEVENT
END:VCALENDAR