BEGIN:VCALENDAR
VERSION:2.0
CALSCALE:GREGORIAN
PRODID:-//MyApp//Calendar 1.0//EN
BEGIN:VEVENT
METHOD:PUBLISH
UID:32261@regionalniportaly.cz
DTSTAMP:20260421T191225Z
DTSTART;VALUE=DATE:20230420
DTEND;VALUE=DATE:20230421
SUMMARY:Oksana Bilozir
DESCRIPTION:Оксана Володимирівна Білозі́р — українська артистка\, громадська і політична діячка. Народна артистка України.У 1977 році вона стала солісткою самодіяльного ВІА «Ритми Карпат» (ПК автобусного заводу)\, котрий через два роки був запрошений в повному складі до філармонії і перейменований на «Ватру». Разом з ансамблем Оксана стала лауреатом фестивалю «Молоді голоси» та всесоюзного огляду творчої молоді\, згодом ушанована званням&nbsp\;Заслуженої артистки України[4].З&nbsp\;1979&nbsp\;—&nbsp\;солістка&nbsp\;вокально-інструментального ансамблю «Ватра»&nbsp\;з&nbsp\;1994&nbsp\;— солістка групи «Оксана».Основу репертуару Оксани становили попобробки народних пісень та пісні тодішнього її чоловіка&nbsp\;Ігоря Білозора\, більшість з яких стали хітами.У 1985 році Оксана Білозір з «Ватрою» записала першу сольну платівку-мільйон\, через три роки&nbsp\;— диск-гігант у дуеті з&nbsp\;Віктором Морозовим&nbsp\;«Ой\, там у Львові\, на Високім Замку». В 1990 році Оксана Білозір виконала найпопулярнішу зі своїх пісень&nbsp\;— візитку&nbsp\;«Україночка»&nbsp\;Геннадія Татарченка. В тому ж році вона створила власний ансамбль «Оксана».В 1993 році в&nbsp\;Канаді&nbsp\;вийшов компакт-диск Оксани Білозір «Україночка». В Україні Оксанин компакт-диск з'явився через два роки&nbsp\;— лейбл НАК випустив збірник «Нові і найкращі пісні …».У 1994 році співачці надано звання&nbsp\;Народної артистки України. На той час вона здивувала своїх шанувальників новою програмою «Карнавал»\, створеною разом з музикантами гурту&nbsp\;«Світязь»&nbsp\;—&nbsp\;Анатолієм Говорадлом&nbsp\;та&nbsp\;Дмитром Гершензоном.Влітку 1996 року Оксана Білозір перебралася до&nbsp\;Києва&nbsp\;і стала викладати в Інституті культури і мистецтв. Наприкінці літа 1998 року лейбл «Караван CD» випустив черговий компакт-диск співачки&nbsp\;— «Для тебе». Наступного року побачив світ альбом реміксів найкращих пісень Оксани Білозір «Чарівна бойківчанка».Наприкінці 2000 року з'явився новий компакт-диск «Горобина ніч»\, складений традиційно як з нових пісень\, так і зі старих реміксів. Навесні 2001-го Оксана Білозір розпочинає співпрацю з продюсером Віталієм Климовим та аранжувальником&nbsp\;Дмитром Ципердюком&nbsp\;(раніше&nbsp\;— «Морра»\, «Ла Манш»\, зараз&nbsp\;— «Dazzle Dreams») і в черговий раз осучаснює свою творчість.Основу нового репертуару становлять як пісні самого Ципердюка\, так і переосмислені старі хіти Ігоря Білозора. Записаний в одній з найбільших московських студій звукозапису SBI Records (колишнього ватрівця&nbsp\;Ігоря Бабенка) хіт&nbsp\;«Лелеки»&nbsp\;на початку 2002-го був виданий на CD-синглі. Паралельно НАК в черговий раз перевидав і (дещо змінені) альбоми «Нові і найкращі пісні …» та «Для тебе»Oksana Bilozir started her concert activity in 1979\, as soloist of via&nbsp\;"Vatra"\, founded by her first husband. Since 1994 she has been the lead singer of music band "Oksana". She released 15 albums\, a DVD\, and 10 music films
LOCATION:Brno
END:VEVENT
END:VCALENDAR