BEGIN:VCALENDAR
VERSION:2.0
CALSCALE:GREGORIAN
PRODID:-//MyApp//Calendar 1.0//EN
BEGIN:VEVENT
METHOD:PUBLISH
UID:32260@regionalniportaly.cz
DTSTAMP:20260421T191215Z
DTSTART;VALUE=DATE:20230419
DTEND;VALUE=DATE:20230420
SUMMARY:Petra Göbelová + Veronika Wildová
DESCRIPTION:Dvojkoncert dvou mladých písničkářek.Petra Göbelová je písničkářka\, která píše o všem\, co ji zrovna napadne. Na svém kontě má zatím dvě alba\, a to “Normální žena” a ”Někdy”. V minulosti odehrála například turné s Pokáčem\, se kterým nazpívala i duet. V Brně vystoupí společně se svou novou kapelou.Veronika Wildová je česká písničkářka a zpěvačka. Píše písně o tíživých ženských tématech až s pohoršujícím nadhledem. S kapelou Divoko natočila a vydala úspěšné kusy\, zejména „Holka\, měla by ses vdát“ nebo „Krásnější ženy“\, které můžete znát i z vašeho supermarketu.&nbsp\;
LOCATION:Brno
END:VEVENT
END:VCALENDAR