BEGIN:VCALENDAR
VERSION:2.0
CALSCALE:GREGORIAN
PRODID:-//MyApp//Calendar 1.0//EN
BEGIN:VEVENT
METHOD:PUBLISH
UID:32254@regionalniportaly.cz
DTSTAMP:20260421T174219Z
DTSTART;VALUE=DATE:20230425
DTEND;VALUE=DATE:20230426
SUMMARY:Miloš Knor - než začnu
DESCRIPTION:
LOCATION:Brno
END:VEVENT
END:VCALENDAR