BEGIN:VCALENDAR
VERSION:2.0
CALSCALE:GREGORIAN
PRODID:-//MyApp//Calendar 1.0//EN
BEGIN:VEVENT
METHOD:PUBLISH
UID:32223@regionalniportaly.cz
DTSTAMP:20260421T191354Z
DTSTART;VALUE=DATE:20230422
DTEND;VALUE=DATE:20230423
SUMMARY:GO Kamera 2023 : Wolf\, Šibík
DESCRIPTION:CESTOVATELSKÝ FESTIVAL&nbsp\;GO KAMERA 20.04.&nbsp\;- 23.04.2023&nbsp\;pořádá CK LIVINGSTONE. Každoročně hostí přes 50 účinkujících. O nejlepší filmy\, fotografie a zážitky z cest se dělí známí cestovatelé a dobrodruzi\, nejlepší horolezci\, fotografové\, publicisté…16:45&nbsp\; &nbsp\;KAREL WOLF\, festival KOLEM SVĚTA: VENEZUELA&nbsp\; &nbsp\; &nbsp\; &nbsp\; &nbsp\; &nbsp\; &nbsp\; &nbsp\; &nbsp\; &nbsp\; &nbsp\; &nbsp\;&nbsp\;JAN ŠIBÍK\, fotograf: 1989&nbsp\;&nbsp\;&nbsp\;
LOCATION:Brno
END:VEVENT
END:VCALENDAR