BEGIN:VCALENDAR
VERSION:2.0
CALSCALE:GREGORIAN
PRODID:-//MyApp//Calendar 1.0//EN
BEGIN:VEVENT
METHOD:PUBLISH
UID:32217@regionalniportaly.cz
DTSTAMP:20260421T201625Z
DTSTART;VALUE=DATE:20230426
DTEND;VALUE=DATE:20230427
SUMMARY:Pavel Čadek - jarní tah smyčcem 2023 | BRNO
DESCRIPTION:Pavel Čadek je písničkář doprovázející se na violoncello. Dostal se do povědomí posluchačů jako předskokan Pokáče\, Xindla X\, Petra Bende\, Báry Polákové\, Jelena a dalších... Mezi jeho nejznámější písně patří humorné písně 30 (duet s Pokáčem)\, Prsa (duet s Michalem Horákem od Pana Fenka)\, Nestíhám\, Utekla mi s ajťákem a Nelajkla mi status. V repertoáru má ale i řadu vážných či sentimentálních písní a tak se během koncertů často střídá celá škála emocí.&nbsp\;Jarní turné 2023 nabídne i písně\, které jinak živě neuslyšíte.&nbsp\;Na brněnském koncertě vystoupí s Pavlem i Úcellová skupina ve složení Ondřej Zámečník - akordeon a Adam Sikora - bicí.&nbsp\;
LOCATION:Brno
END:VEVENT
END:VCALENDAR