BEGIN:VCALENDAR
VERSION:2.0
CALSCALE:GREGORIAN
PRODID:-//MyApp//Calendar 1.0//EN
BEGIN:VEVENT
METHOD:PUBLISH
UID:32212@regionalniportaly.cz
DTSTAMP:20260421T191342Z
DTSTART;VALUE=DATE:20230420
DTEND;VALUE=DATE:20230421
SUMMARY:Mexiko křížem krážem
DESCRIPTION:Mexiko křížem krážemPovídání o mých cestách Mexikem\, od mayských a aztéckých pyramid\, přes hory a džungli až na pláže karibiku a pacifiku.&nbsp\;Ahoj jsem Linda\, umělec a cestovatel a mou láskou je právě Mexiko které jsem navštívila už 7x a nejen turisticky známé místa kolem Cancúnu ale také vnitrozemí\, posvátné hory\, skryté koloniální městečka a také třeba Nevado de Toluca.&nbsp\;Nejvíc času cestuji sama ale také jsem už 4x organizovala cestu se mnou i pro pár známých.&nbsp\;Ráda bych vám o Mexiku pověděla jaké to tam je\, co vše jsem tam zažila a viděla jako holka v teplácích a s baťůžkem\, jak je to s tou věčně zpytovanou&nbsp\;bezpečností\, také něco o oslavách Dia de los Muertes&nbsp\;a nemálo&nbsp\;také o jídle\, protože Mexiko je prostě hodně..o jídle.&nbsp\;Navštívíme Mexico City\, Pueblu&nbsp\;s výhledy na Popocatepetl\, Oaxacu&nbsp\;barevnou\, Chihuahuu s jeji&nbsp\;revolucionářskou historií\, svezeme se El Chepe vlakem napříč Meděným kaňonem až na pobřeží pacifiku\, vezmu vás do posvátných hor Sierra Norte kde žila houbová babička Maria Sabina\, a také vám ukážu Tepoztlán\, Guanajuato\, San Miguel de Allende\, Guadalajaru\, Valladolid.. no ty jména vám asi nic neříkají\, tak to zkrátím&nbsp\;- povedu vás barevnými městečky a ukážu vám ty nejhezčí pláže karibiku a pacifiku. A také pyramidy. A jídlo.&nbsp\; To je jasné :)&nbsp\;Budu se těšit\, Lí.&nbsp\;Přednáší: Linda Freesoul
LOCATION:Brno
END:VEVENT
END:VCALENDAR