BEGIN:VCALENDAR
VERSION:2.0
CALSCALE:GREGORIAN
PRODID:-//MyApp//Calendar 1.0//EN
BEGIN:VEVENT
METHOD:PUBLISH
UID:32165@regionalniportaly.cz
DTSTAMP:20260421T174710Z
DTSTART;VALUE=DATE:20230422
DTEND;VALUE=DATE:20230423
SUMMARY:"Travestie Cabaret Brno: Hvězdy Carnegie Hall"
DESCRIPTION:Show plná humoru a ženské krásy v dokonalé iluzi.&nbsp\;Travestie Cabaret Brno je exkluzivní uskupení čtyř travesti umělkyň a dvou tanečníků. Show je plná humoru\, bohatých kostýmů\, energických vystoupení a osobností populární hudby. Profesionální produkce a dokonalá iluze ženy umocňuje zážitek z perfektně připraveného programu.&nbsp\;Zakladatelky souboru Daina Divad a Lolla de Schampagne jsou na scéně již přes 20 let a dlouhodobě se věnují improvizaci\, ve které jsou pravými mistryněmi. Své dlouholeté zkušenosti využily například na poli divadla\, filmu a během moderování bezpočtu akcí.Ku příležitosti patnáctého výročí byl o nich připraven dokument Českého rozhlasu a vystoupila po jejich boku například zpěvačka Ilona Csáková. Dámy od nepaměti vyprodávají řadu podniků\, sálů i divadel - například Divadlo Husa na provázku nebo HaDivadlo.Další členkou souboru je Scheilla von Rosse\, která prožila celou kariéru v oblasti baletu a účinkovala mimo jiné i v televizních kabaretních pořadech. Své taneční zkušenosti doplňuje efektními kostýmy\, na jejichž výrobě se sama podílí. Velmi ráda ztvárňuje klasicky kabaretní čísla\, ale je velmi variabilní a nebojí se výzev.V neposlední řadě skupinu uzavírá Ivory Divine\, která je ze souboru nejmladší a profesionálně vystupuje od roku 2019. Před tím\, než se uvedla na prkna\, která znamenají svět\, pracovala po dlouhou dobu na své estetice - 15 let zkušeností ve vizážistickém oboru aplikuje při svém líčení\, zakládá si na kvalitních parukách a vymodelované postavě. Během vystoupení se soustřeďuje na preciznost\, výraz a energii k publiku. V rámci svých čísel ráda využívá prvky herecké\, taneční a burleskní.Tanečníci Patrik a Dan\, kteří také tvoří choreografie\, jsou pravými profesionály ve svém oboru. Patrik vystudoval obor Muzikál na Konzervatoři J. Ježka v Praze a od té doby si zahrál v mnoha muzikálech. Několikrát se objevil také na televizních obrazovkách\, například v Československé superstar\, Hlasu Československa nebo několika pořadech a seriálech.&nbsp\;Daniel studoval na Taneční konzervatoři v Brně a vystupoval v baletních a operních představeních Národního divadla Brno. Aktuálně se tanci věnuje jako lektor\, účastní se různých tanečních soutěží a vede několik projektů.
LOCATION:Brno
END:VEVENT
END:VCALENDAR