BEGIN:VCALENDAR
VERSION:2.0
CALSCALE:GREGORIAN
PRODID:-//MyApp//Calendar 1.0//EN
BEGIN:VEVENT
METHOD:PUBLISH
UID:32164@regionalniportaly.cz
DTSTAMP:20260421T184949Z
DTSTART;VALUE=DATE:20230420
DTEND;VALUE=DATE:20230421
SUMMARY:KISS Forever Band
DESCRIPTION:Jedna z nejlepších KISS Tribute kapel světa\, Kiss Forver Band\, zamíří 20. dubna do ENTER Club Brno!&nbsp\;Skupina Kiss Forever Band je věrná kopie známé americké skupiny Kiss. Jedná se o maďarskou skupinu\, která objíždí Evropu a baví fanoušky od roku 1995. Za svoji dlouholetou kariéru objeli více jak 25 zemí\, mají za sebou stovky koncertů a to včetně vystoupení v Las Vega kde se setkali s Tommym Thayerem\, členem KISS. Za zmínku stojí i jejich megakoncert k 20. výročí v Budapešti (2015)\, kde zahrál i Bruce Kulick.&nbsp\;Členové – Zoltán Váry jako Starchild (Paul Stanley)\, Zoltán Fuzfa jako démon (Gene Simmons)\, Paul Sturmann jako spaceman (Ace Frehley) a Radek Šikl jako catman (Peter Criss).&nbsp\;&nbsp\;▌KISS Forever Band▌Čt. 20.4.2023▌ENTER Club Brno [Křížkovského 22]&nbsp\;▌Open door 19:30▌Start show 21:00
LOCATION:Brno
END:VEVENT
END:VCALENDAR