BEGIN:VCALENDAR
VERSION:2.0
CALSCALE:GREGORIAN
PRODID:-//MyApp//Calendar 1.0//EN
BEGIN:VEVENT
METHOD:PUBLISH
UID:32156@regionalniportaly.cz
DTSTAMP:20260421T205510Z
DTSTART;VALUE=DATE:20230420
DTEND;VALUE=DATE:20230421
SUMMARY:Ty Syčáci
DESCRIPTION:Ty Syčáci s excentrickým fyzickým básníkem Petrem Vášou vás provedou bohatou hudební historií svojí kapely.
LOCATION:Brno
END:VEVENT
END:VCALENDAR